BEGIN:VCALENDAR
VERSION:2.0
PRODID:-//Alzheimer&#039;s Family Services of Greater Beaufort - ECPv6.15.13//NONSGML v1.0//EN
CALSCALE:GREGORIAN
METHOD:PUBLISH
X-WR-CALNAME:Alzheimer&#039;s Family Services of Greater Beaufort
X-ORIGINAL-URL:https://afsgb.org
X-WR-CALDESC:Events for Alzheimer&#039;s Family Services of Greater Beaufort
REFRESH-INTERVAL;VALUE=DURATION:PT1H
X-Robots-Tag:noindex
X-PUBLISHED-TTL:PT1H
BEGIN:VTIMEZONE
TZID:America/New_York
BEGIN:DAYLIGHT
TZOFFSETFROM:-0500
TZOFFSETTO:-0400
TZNAME:EDT
DTSTART:20250309T070000
END:DAYLIGHT
BEGIN:STANDARD
TZOFFSETFROM:-0400
TZOFFSETTO:-0500
TZNAME:EST
DTSTART:20251102T060000
END:STANDARD
BEGIN:DAYLIGHT
TZOFFSETFROM:-0500
TZOFFSETTO:-0400
TZNAME:EDT
DTSTART:20260308T070000
END:DAYLIGHT
BEGIN:STANDARD
TZOFFSETFROM:-0400
TZOFFSETTO:-0500
TZNAME:EST
DTSTART:20261101T060000
END:STANDARD
BEGIN:DAYLIGHT
TZOFFSETFROM:-0500
TZOFFSETTO:-0400
TZNAME:EDT
DTSTART:20270314T070000
END:DAYLIGHT
BEGIN:STANDARD
TZOFFSETFROM:-0400
TZOFFSETTO:-0500
TZNAME:EST
DTSTART:20271107T060000
END:STANDARD
END:VTIMEZONE
BEGIN:VEVENT
DTSTART;TZID=America/New_York:20260306T123000
DTEND;TZID=America/New_York:20260306T140000
DTSTAMP:20260425T062927
CREATED:20260112T230848Z
LAST-MODIFIED:20260422T142214Z
UID:10001692-1772800200-1772805600@afsgb.org
SUMMARY:Support Group
DESCRIPTION:
URL:https://afsgb.org/event/support-group/2026-03-06
END:VEVENT
BEGIN:VEVENT
DTSTART;TZID=America/New_York:20260306T100000
DTEND;TZID=America/New_York:20260306T134500
DTSTAMP:20260425T062927
CREATED:20260112T224554Z
LAST-MODIFIED:20260422T143146Z
UID:10000539-1772791200-1772804700@afsgb.org
SUMMARY:Social Day
DESCRIPTION:
URL:https://afsgb.org/event/social-day-2/2026-03-06
END:VEVENT
BEGIN:VEVENT
DTSTART;TZID=America/New_York:20260303T100000
DTEND;TZID=America/New_York:20260303T134500
DTSTAMP:20260425T062927
CREATED:20260112T224554Z
LAST-MODIFIED:20260422T143146Z
UID:10000538-1772532000-1772545500@afsgb.org
SUMMARY:Social Day
DESCRIPTION:
URL:https://afsgb.org/event/social-day-2/2026-03-03
END:VEVENT
BEGIN:VEVENT
DTSTART;TZID=America/New_York:20260302T010000
DTEND;TZID=America/New_York:20260302T140000
DTSTAMP:20260425T062927
CREATED:20260116T144329Z
LAST-MODIFIED:20260116T144329Z
UID:10001430-1772413200-1772460000@afsgb.org
SUMMARY:Living With Alzheimer's Disease Support Group
DESCRIPTION:
URL:https://afsgb.org/event/living-with-alzheimers-disease-support-group/2026-03-02
END:VEVENT
BEGIN:VEVENT
DTSTART;TZID=America/New_York:20260227T123000
DTEND;TZID=America/New_York:20260227T140000
DTSTAMP:20260425T062927
CREATED:20260112T230848Z
LAST-MODIFIED:20260422T142214Z
UID:10001691-1772195400-1772200800@afsgb.org
SUMMARY:Support Group
DESCRIPTION:
URL:https://afsgb.org/event/support-group/2026-02-27
END:VEVENT
BEGIN:VEVENT
DTSTART;TZID=America/New_York:20260227T100000
DTEND;TZID=America/New_York:20260227T134500
DTSTAMP:20260425T062927
CREATED:20260112T224554Z
LAST-MODIFIED:20260422T143146Z
UID:10000537-1772186400-1772199900@afsgb.org
SUMMARY:Social Day
DESCRIPTION:
URL:https://afsgb.org/event/social-day-2/2026-02-27
END:VEVENT
BEGIN:VEVENT
DTSTART;TZID=America/New_York:20260226T100000
DTEND;TZID=America/New_York:20260226T120000
DTSTAMP:20260425T062927
CREATED:20260116T143940Z
LAST-MODIFIED:20260116T143940Z
UID:10001305-1772100000-1772107200@afsgb.org
SUMMARY:Maintain Your Brain
DESCRIPTION:
URL:https://afsgb.org/event/maintain-your-brain/2026-02-26
END:VEVENT
BEGIN:VEVENT
DTSTART;TZID=America/New_York:20260224T100000
DTEND;TZID=America/New_York:20260224T134500
DTSTAMP:20260425T062927
CREATED:20260112T224554Z
LAST-MODIFIED:20260422T143146Z
UID:10000536-1771927200-1771940700@afsgb.org
SUMMARY:Social Day
DESCRIPTION:
URL:https://afsgb.org/event/social-day-2/2026-02-24
END:VEVENT
BEGIN:VEVENT
DTSTART;TZID=America/New_York:20260223T010000
DTEND;TZID=America/New_York:20260223T140000
DTSTAMP:20260425T062927
CREATED:20260116T144329Z
LAST-MODIFIED:20260116T144329Z
UID:10001429-1771808400-1771855200@afsgb.org
SUMMARY:Living With Alzheimer's Disease Support Group
DESCRIPTION:
URL:https://afsgb.org/event/living-with-alzheimers-disease-support-group/2026-02-23
END:VEVENT
BEGIN:VEVENT
DTSTART;TZID=America/New_York:20260220T123000
DTEND;TZID=America/New_York:20260220T140000
DTSTAMP:20260425T062927
CREATED:20260112T230848Z
LAST-MODIFIED:20260422T142214Z
UID:10001690-1771590600-1771596000@afsgb.org
SUMMARY:Support Group
DESCRIPTION:
URL:https://afsgb.org/event/support-group/2026-02-20
END:VEVENT
BEGIN:VEVENT
DTSTART;TZID=America/New_York:20260220T100000
DTEND;TZID=America/New_York:20260220T134500
DTSTAMP:20260425T062927
CREATED:20260112T224554Z
LAST-MODIFIED:20260422T143146Z
UID:10000535-1771581600-1771595100@afsgb.org
SUMMARY:Social Day
DESCRIPTION:
URL:https://afsgb.org/event/social-day-2/2026-02-20
END:VEVENT
BEGIN:VEVENT
DTSTART;TZID=America/New_York:20260217T100000
DTEND;TZID=America/New_York:20260217T134500
DTSTAMP:20260425T062927
CREATED:20260112T224554Z
LAST-MODIFIED:20260422T143146Z
UID:10000534-1771322400-1771335900@afsgb.org
SUMMARY:Social Day
DESCRIPTION:
URL:https://afsgb.org/event/social-day-2/2026-02-17
END:VEVENT
BEGIN:VEVENT
DTSTART;TZID=America/New_York:20260216T010000
DTEND;TZID=America/New_York:20260216T140000
DTSTAMP:20260425T062927
CREATED:20260116T144329Z
LAST-MODIFIED:20260116T144329Z
UID:10001428-1771203600-1771250400@afsgb.org
SUMMARY:Living With Alzheimer's Disease Support Group
DESCRIPTION:
URL:https://afsgb.org/event/living-with-alzheimers-disease-support-group/2026-02-16
END:VEVENT
BEGIN:VEVENT
DTSTART;TZID=America/New_York:20260214T180000
DTEND;TZID=America/New_York:20260214T220000
DTSTAMP:20260425T062927
CREATED:20260112T231245Z
LAST-MODIFIED:20260115T214951Z
UID:10001303-1771092000-1771106400@afsgb.org
SUMMARY:A Valentines Night to Remember
DESCRIPTION:
URL:https://afsgb.org/event/a-valentines-night-to-remember
END:VEVENT
BEGIN:VEVENT
DTSTART;TZID=America/New_York:20260213T123000
DTEND;TZID=America/New_York:20260213T140000
DTSTAMP:20260425T062927
CREATED:20260112T230848Z
LAST-MODIFIED:20260422T142214Z
UID:10001689-1770985800-1770991200@afsgb.org
SUMMARY:Support Group
DESCRIPTION:
URL:https://afsgb.org/event/support-group/2026-02-13
END:VEVENT
BEGIN:VEVENT
DTSTART;TZID=America/New_York:20260213T100000
DTEND;TZID=America/New_York:20260213T134500
DTSTAMP:20260425T062927
CREATED:20260112T224554Z
LAST-MODIFIED:20260422T143146Z
UID:10000533-1770976800-1770990300@afsgb.org
SUMMARY:Social Day
DESCRIPTION:
URL:https://afsgb.org/event/social-day-2/2026-02-13
END:VEVENT
BEGIN:VEVENT
DTSTART;TZID=America/New_York:20260210T100000
DTEND;TZID=America/New_York:20260210T134500
DTSTAMP:20260425T062927
CREATED:20260112T224554Z
LAST-MODIFIED:20260422T143146Z
UID:10000532-1770717600-1770731100@afsgb.org
SUMMARY:Social Day
DESCRIPTION:
URL:https://afsgb.org/event/social-day-2/2026-02-10
END:VEVENT
BEGIN:VEVENT
DTSTART;TZID=America/New_York:20260210T100000
DTEND;TZID=America/New_York:20260210T120000
DTSTAMP:20260425T062927
CREATED:20260116T144043Z
LAST-MODIFIED:20260116T144043Z
UID:10001364-1770717600-1770724800@afsgb.org
SUMMARY:Maintain Your Brain
DESCRIPTION:
URL:https://afsgb.org/event/maintain-your-brain-2/2026-02-10
END:VEVENT
BEGIN:VEVENT
DTSTART;TZID=America/New_York:20260209T010000
DTEND;TZID=America/New_York:20260209T140000
DTSTAMP:20260425T062927
CREATED:20260116T144329Z
LAST-MODIFIED:20260116T144329Z
UID:10001427-1770598800-1770645600@afsgb.org
SUMMARY:Living With Alzheimer's Disease Support Group
DESCRIPTION:
URL:https://afsgb.org/event/living-with-alzheimers-disease-support-group/2026-02-09
END:VEVENT
BEGIN:VEVENT
DTSTART;TZID=America/New_York:20260206T123000
DTEND;TZID=America/New_York:20260206T140000
DTSTAMP:20260425T062927
CREATED:20260112T230848Z
LAST-MODIFIED:20260422T142214Z
UID:10001688-1770381000-1770386400@afsgb.org
SUMMARY:Support Group
DESCRIPTION:
URL:https://afsgb.org/event/support-group/2026-02-06
END:VEVENT
BEGIN:VEVENT
DTSTART;TZID=America/New_York:20260206T100000
DTEND;TZID=America/New_York:20260206T134500
DTSTAMP:20260425T062927
CREATED:20260112T224554Z
LAST-MODIFIED:20260422T143146Z
UID:10000531-1770372000-1770385500@afsgb.org
SUMMARY:Social Day
DESCRIPTION:
URL:https://afsgb.org/event/social-day-2/2026-02-06
END:VEVENT
BEGIN:VEVENT
DTSTART;TZID=America/New_York:20260203T100000
DTEND;TZID=America/New_York:20260203T134500
DTSTAMP:20260425T062927
CREATED:20260112T224554Z
LAST-MODIFIED:20260422T143146Z
UID:10000530-1770112800-1770126300@afsgb.org
SUMMARY:Social Day
DESCRIPTION:
URL:https://afsgb.org/event/social-day-2/2026-02-03
END:VEVENT
BEGIN:VEVENT
DTSTART;TZID=America/New_York:20260202T010000
DTEND;TZID=America/New_York:20260202T140000
DTSTAMP:20260425T062927
CREATED:20260116T144329Z
LAST-MODIFIED:20260116T144329Z
UID:10001426-1769994000-1770040800@afsgb.org
SUMMARY:Living With Alzheimer's Disease Support Group
DESCRIPTION:
URL:https://afsgb.org/event/living-with-alzheimers-disease-support-group/2026-02-02
END:VEVENT
BEGIN:VEVENT
DTSTART;TZID=America/New_York:20260130T123000
DTEND;TZID=America/New_York:20260130T140000
DTSTAMP:20260425T062927
CREATED:20260112T230848Z
LAST-MODIFIED:20260422T142214Z
UID:10001687-1769776200-1769781600@afsgb.org
SUMMARY:Support Group
DESCRIPTION:
URL:https://afsgb.org/event/support-group/2026-01-30
END:VEVENT
BEGIN:VEVENT
DTSTART;TZID=America/New_York:20260130T100000
DTEND;TZID=America/New_York:20260130T134500
DTSTAMP:20260425T062927
CREATED:20260112T224554Z
LAST-MODIFIED:20260422T143146Z
UID:10000529-1769767200-1769780700@afsgb.org
SUMMARY:Social Day
DESCRIPTION:
URL:https://afsgb.org/event/social-day-2/2026-01-30
END:VEVENT
BEGIN:VEVENT
DTSTART;TZID=America/New_York:20260127T100000
DTEND;TZID=America/New_York:20260127T134500
DTSTAMP:20260425T062927
CREATED:20260112T224554Z
LAST-MODIFIED:20260422T143146Z
UID:10000528-1769508000-1769521500@afsgb.org
SUMMARY:Social Day
DESCRIPTION:
URL:https://afsgb.org/event/social-day-2/2026-01-27
END:VEVENT
BEGIN:VEVENT
DTSTART;TZID=America/New_York:20260126T010000
DTEND;TZID=America/New_York:20260126T140000
DTSTAMP:20260425T062927
CREATED:20260116T144329Z
LAST-MODIFIED:20260116T144329Z
UID:10001425-1769389200-1769436000@afsgb.org
SUMMARY:Living With Alzheimer's Disease Support Group
DESCRIPTION:
URL:https://afsgb.org/event/living-with-alzheimers-disease-support-group/2026-01-26
END:VEVENT
BEGIN:VEVENT
DTSTART;TZID=America/New_York:20260123T123000
DTEND;TZID=America/New_York:20260123T140000
DTSTAMP:20260425T062927
CREATED:20260112T230848Z
LAST-MODIFIED:20260422T142214Z
UID:10001686-1769171400-1769176800@afsgb.org
SUMMARY:Support Group
DESCRIPTION:
URL:https://afsgb.org/event/support-group/2026-01-23
END:VEVENT
BEGIN:VEVENT
DTSTART;TZID=America/New_York:20260123T100000
DTEND;TZID=America/New_York:20260123T134500
DTSTAMP:20260425T062927
CREATED:20260112T224554Z
LAST-MODIFIED:20260422T143146Z
UID:10000527-1769162400-1769175900@afsgb.org
SUMMARY:Social Day
DESCRIPTION:
URL:https://afsgb.org/event/social-day-2/2026-01-23
END:VEVENT
BEGIN:VEVENT
DTSTART;TZID=America/New_York:20260122T100000
DTEND;TZID=America/New_York:20260122T120000
DTSTAMP:20260425T062927
CREATED:20260116T143940Z
LAST-MODIFIED:20260116T143940Z
UID:10001304-1769076000-1769083200@afsgb.org
SUMMARY:Maintain Your Brain
DESCRIPTION:
URL:https://afsgb.org/event/maintain-your-brain/2026-01-22
END:VEVENT
END:VCALENDAR